BEGIN:VCALENDAR
VERSION:2.0
PRODID:-//Tukios.com/
BEGIN:VEVENT
UID:dc65bf6b-7f79-4cfe-8279-1ec1f300a091@www.farrellhollandgale.com
DTSTAMP:20260423T222956Z
DTSTART:20260427T220000Z
DTEND:20260428T000000Z
SUMMARY:Visitation
DESCRIPTION:
URL:https://www.farrellhollandgale.com/obituaries/james-jim-leather
LOCATION: 136 W Roosevelt St PO Box 467 Stillman Valley IL 61084
GEO:42.1067322;-89.1804014
END:VEVENT
END:VCALENDAR