BEGIN:VCALENDAR
VERSION:2.0
PRODID:-//Tukios.com/
BEGIN:VEVENT
UID:5ba86629-638b-42b1-a81d-8cbf72047512@www.farrellhollandgale.com
DTSTAMP:20260423T223435Z
DTSTART:20260428T160000Z
DTEND:20260428T170000Z
SUMMARY:Funeral Service
DESCRIPTION:
URL:https://www.farrellhollandgale.com/obituaries/james-jim-leather
LOCATION: 4938 S. Daysville Rd  Oregon IL 61061
GEO:41.9468443;-89.30136
END:VEVENT
END:VCALENDAR